BEGIN:VCALENDAR
VERSION:2.0
PRODID:-//BRF Höskrindan - ECPv5.2.1//NONSGML v1.0//EN
CALSCALE:GREGORIAN
METHOD:PUBLISH
X-WR-CALNAME:BRF Höskrindan
X-ORIGINAL-URL:https://hoskrindan.hsbbrfwebb.se
X-WR-CALDESC:Events for BRF Höskrindan
BEGIN:VTIMEZONE
TZID:Europe/Paris
BEGIN:DAYLIGHT
TZOFFSETFROM:+0100
TZOFFSETTO:+0200
TZNAME:CEST
DTSTART:20200329T010000
END:DAYLIGHT
BEGIN:STANDARD
TZOFFSETFROM:+0200
TZOFFSETTO:+0100
TZNAME:CET
DTSTART:20201025T010000
END:STANDARD
END:VTIMEZONE
BEGIN:VEVENT
DTSTART;TZID=Europe/Paris:20200621T100000
DTEND;TZID=Europe/Paris:20200621T120000
DTSTAMP:20260420T052725
CREATED:20200414T194725Z
LAST-MODIFIED:20200525T184904Z
UID:1603-1592733600-1592740800@hoskrindan.hsbbrfwebb.se
SUMMARY:Årsmöte
DESCRIPTION:
URL:https://hoskrindan.hsbbrfwebb.se/evenemang/arsmote/
LOCATION:Nedre parkering (carport)
END:VEVENT
END:VCALENDAR