BEGIN:VCALENDAR
VERSION:2.0
PRODID:-//BRF Höskrindan - ECPv5.2.1//NONSGML v1.0//EN
CALSCALE:GREGORIAN
METHOD:PUBLISH
X-WR-CALNAME:BRF Höskrindan
X-ORIGINAL-URL:https://hoskrindan.hsbbrfwebb.se
X-WR-CALDESC:Events for BRF Höskrindan
BEGIN:VTIMEZONE
TZID:Europe/Paris
BEGIN:DAYLIGHT
TZOFFSETFROM:+0100
TZOFFSETTO:+0200
TZNAME:CEST
DTSTART:20230326T010000
END:DAYLIGHT
BEGIN:STANDARD
TZOFFSETFROM:+0200
TZOFFSETTO:+0100
TZNAME:CET
DTSTART:20231029T010000
END:STANDARD
END:VTIMEZONE
BEGIN:VEVENT
DTSTART;TZID=Europe/Paris:20230513T100000
DTEND;TZID=Europe/Paris:20230513T120000
DTSTAMP:20260419T161509
CREATED:20230425T123716Z
LAST-MODIFIED:20230425T123716Z
UID:1758-1683972000-1683979200@hoskrindan.hsbbrfwebb.se
SUMMARY:Årsstämma
DESCRIPTION:Kallelse till Årsstämma \nMedlemmar i BRF Höskrindan 3 kallas till Årsstämma för verksamhetsåret 2022. \nLördagen den 13 maj kl 10. \nPlats: Lokalen “Stallet” Ridvägen 9\, Laröd. \nAnmälan till hoskrindan@hsbbrfwebb.se senast den 11 maj om deltagande. \nVälkomna! \nStyrelsen
URL:https://hoskrindan.hsbbrfwebb.se/evenemang/arsstamma/
LOCATION:Stallet\, Ridvägen 9
ATTACH;FMTTYPE=image/jpeg:https://hoskrindan.hsbbrfwebb.se/wp-content/uploads/sites/30/2023/04/arstamma-2.jpg
END:VEVENT
END:VCALENDAR