BEGIN:VCALENDAR
VERSION:2.0
PRODID:-//BRF Höskrindan - ECPv5.2.1//NONSGML v1.0//EN
CALSCALE:GREGORIAN
METHOD:PUBLISH
X-WR-CALNAME:BRF Höskrindan
X-ORIGINAL-URL:https://hoskrindan.hsbbrfwebb.se
X-WR-CALDESC:Events for BRF Höskrindan
BEGIN:VTIMEZONE
TZID:Europe/Paris
BEGIN:DAYLIGHT
TZOFFSETFROM:+0100
TZOFFSETTO:+0200
TZNAME:CEST
DTSTART:20180325T010000
END:DAYLIGHT
BEGIN:STANDARD
TZOFFSETFROM:+0200
TZOFFSETTO:+0100
TZNAME:CET
DTSTART:20181028T010000
END:STANDARD
END:VTIMEZONE
BEGIN:VEVENT
DTSTART;VALUE=DATE:20180614
DTEND;VALUE=DATE:20180619
DTSTAMP:20260422T161745
CREATED:20180509T124550Z
LAST-MODIFIED:20180509T124550Z
UID:1077-1528934400-1529366399@hoskrindan.hsbbrfwebb.se
SUMMARY:Container
DESCRIPTION:
URL:https://hoskrindan.hsbbrfwebb.se/evenemang/container/
LOCATION:Nedre vändplats
END:VEVENT
END:VCALENDAR