BEGIN:VCALENDAR
VERSION:2.0
PRODID:-//BRF Höskrindan - ECPv5.2.1//NONSGML v1.0//EN
CALSCALE:GREGORIAN
METHOD:PUBLISH
X-WR-CALNAME:BRF Höskrindan
X-ORIGINAL-URL:https://hoskrindan.hsbbrfwebb.se
X-WR-CALDESC:Events for BRF Höskrindan
BEGIN:VTIMEZONE
TZID:Europe/Paris
BEGIN:DAYLIGHT
TZOFFSETFROM:+0100
TZOFFSETTO:+0200
TZNAME:CEST
DTSTART:20180325T010000
END:DAYLIGHT
BEGIN:STANDARD
TZOFFSETFROM:+0200
TZOFFSETTO:+0100
TZNAME:CET
DTSTART:20181028T010000
END:STANDARD
END:VTIMEZONE
BEGIN:VEVENT
DTSTART;TZID=Europe/Paris:20180422T100000
DTEND;TZID=Europe/Paris:20180422T100000
DTSTAMP:20260422T222158
CREATED:20180404T193630Z
LAST-MODIFIED:20180404T193630Z
UID:1048-1524391200-1524391200@hoskrindan.hsbbrfwebb.se
SUMMARY:Extrastämma
DESCRIPTION:Välkommen till extrastämma gällande förändringar i våra stadgar. \n/Styrelsen
URL:https://hoskrindan.hsbbrfwebb.se/evenemang/extrastamma/
LOCATION:Nedre parkering (carport)
END:VEVENT
END:VCALENDAR