BEGIN:VCALENDAR
VERSION:2.0
PRODID:-//BRF Höskrindan - ECPv5.2.1//NONSGML v1.0//EN
CALSCALE:GREGORIAN
METHOD:PUBLISH
X-WR-CALNAME:BRF Höskrindan
X-ORIGINAL-URL:https://hoskrindan.hsbbrfwebb.se
X-WR-CALDESC:Events for BRF Höskrindan
BEGIN:VTIMEZONE
TZID:Europe/Paris
BEGIN:DAYLIGHT
TZOFFSETFROM:+0100
TZOFFSETTO:+0200
TZNAME:CEST
DTSTART:20180325T010000
END:DAYLIGHT
BEGIN:STANDARD
TZOFFSETFROM:+0200
TZOFFSETTO:+0100
TZNAME:CET
DTSTART:20181028T010000
END:STANDARD
END:VTIMEZONE
BEGIN:VEVENT
DTSTART;TZID=Europe/Paris:20181209T150000
DTEND;TZID=Europe/Paris:20181209T150000
DTSTAMP:20260422T035335
CREATED:20181121T113426Z
LAST-MODIFIED:20181121T113426Z
UID:1194-1544367600-1544367600@hoskrindan.hsbbrfwebb.se
SUMMARY:Glöggmingel
DESCRIPTION:Trivselgruppen bjuder in till glöggmingel på det övre grönområdet. \nVälkomna!
URL:https://hoskrindan.hsbbrfwebb.se/evenemang/gloggmingel-2/
END:VEVENT
END:VCALENDAR