BEGIN:VCALENDAR
VERSION:2.0
PRODID:-//BRF Höskrindan - ECPv5.2.1//NONSGML v1.0//EN
CALSCALE:GREGORIAN
METHOD:PUBLISH
X-WR-CALNAME:BRF Höskrindan
X-ORIGINAL-URL:https://hoskrindan.hsbbrfwebb.se
X-WR-CALDESC:Events for BRF Höskrindan
BEGIN:VTIMEZONE
TZID:Europe/Paris
BEGIN:DAYLIGHT
TZOFFSETFROM:+0100
TZOFFSETTO:+0200
TZNAME:CEST
DTSTART:20170326T010000
END:DAYLIGHT
BEGIN:STANDARD
TZOFFSETFROM:+0200
TZOFFSETTO:+0100
TZNAME:CET
DTSTART:20171029T010000
END:STANDARD
END:VTIMEZONE
BEGIN:VEVENT
DTSTART;TZID=Europe/Paris:20171125T150000
DTEND;TZID=Europe/Paris:20171125T150000
DTSTAMP:20260422T235055
CREATED:20171001T073336Z
LAST-MODIFIED:20171025T144340Z
UID:1019-1511622000-1511622000@hoskrindan.hsbbrfwebb.se
SUMMARY:Glöggmingel
DESCRIPTION:Tid: 15.00 \nPlats: Grönområdet framför Sadelvägen 71
URL:https://hoskrindan.hsbbrfwebb.se/evenemang/gloggmingel/
END:VEVENT
END:VCALENDAR