BEGIN:VCALENDAR
VERSION:2.0
PRODID:-//BRF Höskrindan - ECPv5.2.1//NONSGML v1.0//EN
CALSCALE:GREGORIAN
METHOD:PUBLISH
X-WR-CALNAME:BRF Höskrindan
X-ORIGINAL-URL:https://hoskrindan.hsbbrfwebb.se
X-WR-CALDESC:Events for BRF Höskrindan
BEGIN:VTIMEZONE
TZID:Europe/Paris
BEGIN:DAYLIGHT
TZOFFSETFROM:+0100
TZOFFSETTO:+0200
TZNAME:CEST
DTSTART:20190331T010000
END:DAYLIGHT
BEGIN:STANDARD
TZOFFSETFROM:+0200
TZOFFSETTO:+0100
TZNAME:CET
DTSTART:20191027T010000
END:STANDARD
END:VTIMEZONE
BEGIN:VEVENT
DTSTART;TZID=Europe/Paris:20190702T190000
DTEND;TZID=Europe/Paris:20190702T203000
DTSTAMP:20260421T114811
CREATED:20190530T210244Z
LAST-MODIFIED:20190530T210244Z
UID:1330-1562094000-1562099400@hoskrindan.hsbbrfwebb.se
SUMMARY:Styrelsemöte
DESCRIPTION:
URL:https://hoskrindan.hsbbrfwebb.se/evenemang/styrelsemote-15/
END:VEVENT
END:VCALENDAR