BEGIN:VCALENDAR
VERSION:2.0
PRODID:-//BRF Höskrindan - ECPv5.2.1//NONSGML v1.0//EN
CALSCALE:GREGORIAN
METHOD:PUBLISH
X-WR-CALNAME:BRF Höskrindan
X-ORIGINAL-URL:https://hoskrindan.hsbbrfwebb.se
X-WR-CALDESC:Events for BRF Höskrindan
BEGIN:VTIMEZONE
TZID:Europe/Paris
BEGIN:DAYLIGHT
TZOFFSETFROM:+0100
TZOFFSETTO:+0200
TZNAME:CEST
DTSTART:20200329T010000
END:DAYLIGHT
BEGIN:STANDARD
TZOFFSETFROM:+0200
TZOFFSETTO:+0100
TZNAME:CET
DTSTART:20201025T010000
END:STANDARD
END:VTIMEZONE
BEGIN:VEVENT
DTSTART;TZID=Europe/Paris:20200114T190000
DTEND;TZID=Europe/Paris:20200114T203000
DTSTAMP:20260420T152600
CREATED:20191211T151835Z
LAST-MODIFIED:20191211T151835Z
UID:1505-1579028400-1579033800@hoskrindan.hsbbrfwebb.se
SUMMARY:Styrelsemöte
DESCRIPTION:
URL:https://hoskrindan.hsbbrfwebb.se/evenemang/styrelsemote-20/
END:VEVENT
END:VCALENDAR