BEGIN:VCALENDAR
VERSION:2.0
PRODID:-//BRF Höskrindan - ECPv5.2.1//NONSGML v1.0//EN
CALSCALE:GREGORIAN
METHOD:PUBLISH
X-WR-CALNAME:BRF Höskrindan
X-ORIGINAL-URL:https://hoskrindan.hsbbrfwebb.se
X-WR-CALDESC:Events for BRF Höskrindan
BEGIN:VTIMEZONE
TZID:Europe/Paris
BEGIN:DAYLIGHT
TZOFFSETFROM:+0100
TZOFFSETTO:+0200
TZNAME:CEST
DTSTART:20200329T010000
END:DAYLIGHT
BEGIN:STANDARD
TZOFFSETFROM:+0200
TZOFFSETTO:+0100
TZNAME:CET
DTSTART:20201025T010000
END:STANDARD
END:VTIMEZONE
BEGIN:VEVENT
DTSTART;TZID=Europe/Paris:20200908T193000
DTEND;TZID=Europe/Paris:20200908T210000
DTSTAMP:20260420T015357
CREATED:20200928T054928Z
LAST-MODIFIED:20200928T054928Z
UID:1698-1599593400-1599598800@hoskrindan.hsbbrfwebb.se
SUMMARY:Styrelsemöte
DESCRIPTION:
URL:https://hoskrindan.hsbbrfwebb.se/evenemang/styrelsemote-26/
END:VEVENT
END:VCALENDAR